BEGIN:VCALENDAR
VERSION:2.0
PRODID:-//Grapevine Golf Course - Grapevine, TX - ECPv6.15.20//NONSGML v1.0//EN
CALSCALE:GREGORIAN
METHOD:PUBLISH
X-ORIGINAL-URL:https://grapevinegc.com
X-WR-CALDESC:Events for Grapevine Golf Course - Grapevine, TX
REFRESH-INTERVAL;VALUE=DURATION:PT1H
X-Robots-Tag:noindex
X-PUBLISHED-TTL:PT1H
BEGIN:VTIMEZONE
TZID:UTC
BEGIN:STANDARD
TZOFFSETFROM:+0000
TZOFFSETTO:+0000
TZNAME:UTC
DTSTART:20250101T000000
END:STANDARD
END:VTIMEZONE
BEGIN:VEVENT
DTSTART;TZID=UTC:20260314T000000
DTEND;TZID=UTC:20260314T235959
DTSTAMP:20260425T154016
CREATED:20260215T172215Z
LAST-MODIFIED:20260215T172218Z
UID:10000126-1773446400-1773532799@grapevinegc.com
SUMMARY:Grapevine Golf Association
DESCRIPTION:8:00 am Tee Times\, 120 Players
URL:https://grapevinegc.com/event/grapevine-golf-association-23/
END:VEVENT
BEGIN:VEVENT
DTSTART;TZID=UTC:20260327T000000
DTEND;TZID=UTC:20260327T235959
DTSTAMP:20260425T154016
CREATED:20260301T144111Z
LAST-MODIFIED:20260301T144112Z
UID:10000129-1774569600-1774655999@grapevinegc.com
SUMMARY:Strides Event
DESCRIPTION:8:30 am Shotgun\, 44 Players
URL:https://grapevinegc.com/event/strides-event/
END:VEVENT
BEGIN:VEVENT
DTSTART;TZID=UTC:20260328T000000
DTEND;TZID=UTC:20260328T235959
DTSTAMP:20260425T154016
CREATED:20260215T174224Z
LAST-MODIFIED:20260215T174227Z
UID:10000127-1774656000-1774742399@grapevinegc.com
SUMMARY:Grapevine Golf Association
DESCRIPTION:8:00 am Tee Times\, 120 Players
URL:https://grapevinegc.com/event/grapevine-golf-association-24/
END:VEVENT
BEGIN:VEVENT
DTSTART;TZID=UTC:20260330T000000
DTEND;TZID=UTC:20260330T235959
DTSTAMP:20260425T154016
CREATED:20260301T151130Z
LAST-MODIFIED:20260301T151132Z
UID:10000130-1774828800-1774915199@grapevinegc.com
SUMMARY:Grapevine Ambucs
DESCRIPTION:8:30 am Shotgun\, 120 Players (Off 9 Twice in the AM)
URL:https://grapevinegc.com/event/grapevine-ambucs/
END:VEVENT
END:VCALENDAR