BEGIN:VCALENDAR
VERSION:2.0
PRODID:-//Grapevine Golf Course - Grapevine, TX - ECPv6.15.20//NONSGML v1.0//EN
CALSCALE:GREGORIAN
METHOD:PUBLISH
X-WR-CALNAME:Grapevine Golf Course - Grapevine, TX
X-ORIGINAL-URL:https://grapevinegc.com
X-WR-CALDESC:Events for Grapevine Golf Course - Grapevine, TX
REFRESH-INTERVAL;VALUE=DURATION:PT1H
X-Robots-Tag:noindex
X-PUBLISHED-TTL:PT1H
BEGIN:VTIMEZONE
TZID:UTC
BEGIN:STANDARD
TZOFFSETFROM:+0000
TZOFFSETTO:+0000
TZNAME:UTC
DTSTART:20250101T000000
END:STANDARD
END:VTIMEZONE
BEGIN:VEVENT
DTSTART;TZID=UTC:20260110T000000
DTEND;TZID=UTC:20260110T235959
DTSTAMP:20260425T145401
CREATED:20251130T195459Z
LAST-MODIFIED:20251130T195502Z
UID:10000117-1768003200-1768089599@grapevinegc.com
SUMMARY:Grapevine Golf Association
DESCRIPTION:8:00 am Tee Times\, 120 Players
URL:https://grapevinegc.com/event/grapevine-golf-association-19/
END:VEVENT
BEGIN:VEVENT
DTSTART;TZID=UTC:20260124T000000
DTEND;TZID=UTC:20260124T235959
DTSTAMP:20260425T145401
CREATED:20251130T195704Z
LAST-MODIFIED:20251130T195706Z
UID:10000118-1769212800-1769299199@grapevinegc.com
SUMMARY:Grapevine Golf Association
DESCRIPTION:8:00 am Tee Times\, 120 Players
URL:https://grapevinegc.com/event/grapevine-golf-association-20/
END:VEVENT
BEGIN:VEVENT
DTSTART;TZID=UTC:20260130T000000
DTEND;TZID=UTC:20260131T235959
DTSTAMP:20260425T145401
CREATED:20251130T195756Z
LAST-MODIFIED:20251130T195757Z
UID:10000119-1769731200-1769903999@grapevinegc.com
SUMMARY:Vanessa Close invitational
DESCRIPTION:
URL:https://grapevinegc.com/event/vanessa-close-invitational/
END:VEVENT
END:VCALENDAR