BEGIN:VCALENDAR
VERSION:2.0
PRODID:-//Grapevine Golf Course - Grapevine, TX - ECPv6.15.20//NONSGML v1.0//EN
CALSCALE:GREGORIAN
METHOD:PUBLISH
X-ORIGINAL-URL:https://grapevinegc.com
X-WR-CALDESC:Events for Grapevine Golf Course - Grapevine, TX
REFRESH-INTERVAL;VALUE=DURATION:PT1H
X-Robots-Tag:noindex
X-PUBLISHED-TTL:PT1H
BEGIN:VTIMEZONE
TZID:UTC
BEGIN:STANDARD
TZOFFSETFROM:+0000
TZOFFSETTO:+0000
TZNAME:UTC
DTSTART:20240101T000000
END:STANDARD
END:VTIMEZONE
BEGIN:VEVENT
DTSTART;TZID=UTC:20250308T000000
DTEND;TZID=UTC:20250308T235959
DTSTAMP:20260425T101214
CREATED:20250129T151918Z
LAST-MODIFIED:20250129T151919Z
UID:10000046-1741392000-1741478399@grapevinegc.com
SUMMARY:Grapevine Golf Association
DESCRIPTION:8:00 am Tee Times\, 120 Players
URL:https://grapevinegc.com/event/grapevine-golf-association/
END:VEVENT
BEGIN:VEVENT
DTSTART;TZID=UTC:20250317T000000
DTEND;TZID=UTC:20250317T235959
DTSTAMP:20260425T101214
CREATED:20231121T222235Z
LAST-MODIFIED:20240517T124501Z
UID:10000006-1742169600-1742255999@grapevinegc.com
SUMMARY:Saint Patrick's Day
DESCRIPTION:
URL:https://grapevinegc.com/event/saint-patricks-day/
CATEGORIES:Holidays
END:VEVENT
BEGIN:VEVENT
DTSTART;TZID=UTC:20250317T000000
DTEND;TZID=UTC:20250317T235959
DTSTAMP:20260425T101214
CREATED:20250129T152104Z
LAST-MODIFIED:20250129T152105Z
UID:10000048-1742169600-1742255999@grapevinegc.com
SUMMARY:Wounded Warrior Family Tournament
DESCRIPTION:9:00 am Shotgun\, 140 Players
URL:https://grapevinegc.com/event/wounded-warrior-family-tournament/
END:VEVENT
BEGIN:VEVENT
DTSTART;TZID=UTC:20250321T000000
DTEND;TZID=UTC:20250321T235959
DTSTAMP:20260425T101214
CREATED:20250129T152150Z
LAST-MODIFIED:20250129T152151Z
UID:10000049-1742515200-1742601599@grapevinegc.com
SUMMARY:Dallas Security Traders
DESCRIPTION:8:30 am Tee Times\, 48 Players
URL:https://grapevinegc.com/event/dallas-security-traders/
END:VEVENT
BEGIN:VEVENT
DTSTART;TZID=UTC:20250327T000000
DTEND;TZID=UTC:20250327T235959
DTSTAMP:20260425T101214
CREATED:20250129T152240Z
LAST-MODIFIED:20250129T152241Z
UID:10000050-1743033600-1743119999@grapevinegc.com
SUMMARY:Strides Golf Event
DESCRIPTION:8:30 am Tee Times\, 40 Players
URL:https://grapevinegc.com/event/strides-golf-event/
END:VEVENT
BEGIN:VEVENT
DTSTART;TZID=UTC:20250329T000000
DTEND;TZID=UTC:20250329T235959
DTSTAMP:20260425T101214
CREATED:20250129T152005Z
LAST-MODIFIED:20250129T152006Z
UID:10000047-1743206400-1743292799@grapevinegc.com
SUMMARY:Grapevine Golf Association
DESCRIPTION:8:00 am Tee Times\, 120 Players
URL:https://grapevinegc.com/event/grapevine-golf-association-2/
END:VEVENT
END:VCALENDAR