BEGIN:VCALENDAR
VERSION:2.0
PRODID:-//Grapevine Golf Course - Grapevine, TX - ECPv6.15.20//NONSGML v1.0//EN
CALSCALE:GREGORIAN
METHOD:PUBLISH
X-WR-CALNAME:Grapevine Golf Course - Grapevine, TX
X-ORIGINAL-URL:https://grapevinegc.com
X-WR-CALDESC:Events for Grapevine Golf Course - Grapevine, TX
REFRESH-INTERVAL;VALUE=DURATION:PT1H
X-Robots-Tag:noindex
X-PUBLISHED-TTL:PT1H
BEGIN:VTIMEZONE
TZID:UTC
BEGIN:STANDARD
TZOFFSETFROM:+0000
TZOFFSETTO:+0000
TZNAME:UTC
DTSTART:20250101T000000
END:STANDARD
END:VTIMEZONE
BEGIN:VEVENT
DTSTART;TZID=UTC:20260207T000000
DTEND;TZID=UTC:20260208T235959
DTSTAMP:20260425T145232
CREATED:20260112T141430Z
LAST-MODIFIED:20260112T141433Z
UID:10000124-1770422400-1770595199@grapevinegc.com
SUMMARY:Winter Two Man Event
DESCRIPTION:9:00 am Shotgun 128 Players
URL:https://grapevinegc.com/event/winter-two-man-event-2/
END:VEVENT
END:VCALENDAR