BEGIN:VCALENDAR
VERSION:2.0
PRODID:-//Grapevine Golf Course - Grapevine, TX - ECPv6.15.20//NONSGML v1.0//EN
CALSCALE:GREGORIAN
METHOD:PUBLISH
X-ORIGINAL-URL:https://grapevinegc.com
X-WR-CALDESC:Events for Grapevine Golf Course - Grapevine, TX
REFRESH-INTERVAL;VALUE=DURATION:PT1H
X-Robots-Tag:noindex
X-PUBLISHED-TTL:PT1H
BEGIN:VTIMEZONE
TZID:UTC
BEGIN:STANDARD
TZOFFSETFROM:+0000
TZOFFSETTO:+0000
TZNAME:UTC
DTSTART:20240101T000000
END:STANDARD
END:VTIMEZONE
BEGIN:VEVENT
DTSTART;TZID=UTC:20250402T000000
DTEND;TZID=UTC:20250402T235959
DTSTAMP:20260425T114846
CREATED:20250319T172312Z
LAST-MODIFIED:20250319T172314Z
UID:10000051-1743552000-1743638399@grapevinegc.com
SUMMARY:North Texas Seniors
DESCRIPTION:8:00 am Shotgun\, 120 Players\, (Course Opens at Noon)
URL:https://grapevinegc.com/event/north-texas-seniors/
END:VEVENT
END:VCALENDAR